Workbook

Sheet Directives d'utilisation
A1: LE PLAN D'ACTION
A2: Format | B2: 8 ½ par 14 en paysage, marges personnalisées
A3: En-tête et pied de page du canevas de plan d'action - à personnaliser | B3: En-tête: nom de l'organisme - plan d'action 2014-2015 Pied de page: version du [date] (la date se met à jour automatiquement lors de l'ouverture du fichier)
A4: Comme le nombre de priorités, d'objectifs généraux et d'objectifs spécifiques varient d'un plan d'action à l'autre, la présentation de la feuille plan d'action doit être adaptée à la réalité de l'organisme. Voici comment faire.
A5: Pour ajouter une priorité | B5: Sélectionnez les cellules A1 à K6, copiez-les et collez-les sous la dernière ligne de l'onglet (après le dernier objectif spécifique de la dernière priorité) en mettant votre curseur dans la première cellule visée par le collage (ex.: cellule A25). N'oubliez pas de changer le numéro de la priorité et des objectifs!
A6: Pour ajouter un objectif général | B6: Sélectionnez les cellules B1 à K6 et copiez-les. Pour les coller dans la priorité appropriée, sélectionnez la ligne au-dessus de laquelle vous souhaitez voir apparaître votre nouvel objectif général et cliquez sur votre bouton de droite de la souris: choisissez l'option "Insérer les cellules copiées". Une fenêtre apparaîtra: choisissez l'option "Décalez les cellules vers le bas". N'oubliez pas de changer le numéro des objectifs!
A7: Pour ajouter un objectif spécifique | B7: Sélectionnez les cellules A4 à K4 et copiez-les. Pour les coller dans l'objectif approprié, sélectionnez la ligne au-dessus de laquelle vous souhaitez voir apparaître votre nouvel objectif général et cliquez sur votre bouton de droite de la souris: choisissez l'option "Insérer les cellules copiées". Une fenêtre apparaîtra: choisissez l'option "Décalez les cellules vers le bas". N'oubliez pas de changer le numéro de l'objectif!
A8: LES FICHES DE SUIVI
A9: Format | B9: 8 ½ par 11 en paysage, marges étroites
A10: En-tête et pied de page du canevas de plan d'action - à personnaliser | B10: En-tête: Fiches de suivi du plan d'action 2014-2015 Pied de page: version du [date] (la date se met à jour automatiquement lors de l'ouverture du fichier)
A11: Dans le présent canevas, vous trouverez une feuille de suivi par objectif général. Chacune de celle-ci comporte habituellement une fiche de suivi par objectif spécifique. Le nombre de feuilles et de fiches de suivi doit donc correspondre à ce qui a été défini dans la feuille plan d'action. De plus, pour faciliter le suivi, il est conseillé de lier les fiches de suivi à la feuille plan d'action. Voici comment faire pour ajouter des fiches et faire les liaisons. (Pour les fiches de suivi déjà présentes dans le canevas, les liaisons sont déjà en place.)
A12: Pour ajouter une feuille de suivi (pour un objectif général) | B12: En bas de la fenêtre du fichier excel, sur la barre où sont toutes les feuilles, cliquez sur le bouton de droite de la souris et choisissez l'option "Insérer". Dans la fenêtre qui apparaît, sous l'onglet "Général", choisissez l'icône "Feuille" et cliquez sur "OK". Une nouvelle feuille apparaîtra sur la barre du bas. Pour la renommer, positionnez votre curseur au-dessus et cliquez à droite pour choisir l'option "Renommer". Pour placer la nouvelle feuille au bon endroit, sélectionnez-la et, en gardant le bouton enfoncé, déplacez votre souris vers l'endroit voulu. Une fois la nouvelle feuille créée, il faut intégrer les fiches de suivis (1 fiche par objectif spécifique). Pour ce faire, allez dans la première feuille des fiches de suivi et sélectionnez les cellules A1 à D25. Retournez dans la feuille où vous voulez ajouter la fiche de suivi et placez votre curseur à l'endroit où vous voulez la coller (ex.: au-dessus de la cellule A1). Cliquez à droite et choisissez l'option "Collage spécial". Puis, dans la section "Coller", choisissez le 5e icône intitulé "Conserver les largeurs de colonnes sources (o)" (l'icône présente deux flèches opposées). Répétez ces opérations pour ajouter d'autres fiches de suivi.
A13: Comment faire des liaisons entre les fiches de suivi et la feuille du plan d'action | B13: Pour que tout ce qui est inscrit dans le plan d'action se reporte dans les fiches de suivi, il faut intégrer des liaisons dans les fiches de suivi. La procédure est expliquée à l'aide de l'exemple suivant: reporter l'objectif spécifique 1 dans sa fiche de suivi. Sélectionner la cellule à droite de "Objectif spécifique 1" dans la fiche de suivi, pas dans le plan d'action (soit la cellule B3 de la feuille "Suivi - P1, obj 1). Inscrivez " = "dans la cellule, allez dans la feuille plan d'action et sélectionnez la cellule que vous souhaitez lier (soit la cellule B1). Appuyez sur la touche "Entrée" et vous devriez voir apparaître l'objectif spécifique 1 dans la cellule. Si ce n'est pas le cas, assurez-vous que la cellule est en format "Standard" et répéter la dernière étape (mettez votre curseur dans la cellule et appuyez sur la touche "Entrée"). Effectuez ces étapes pour toutes les premières parties des feuilles de suivi (cellules B1 à B9). La deuxième partie des feuilles de suivi (cellules A11 à D25) doit être complétée en remplissant les cellules manuellement Pour cette section, il peut être nécessaire d'ajouter ou de supprimer des lignes pour adapter le canevas à l'objectif concerné.
A14: LE RÉSUMÉ DU PLAN D'ACTION
A15: Format | B15: 8 ½ par 14 en Portrait, marges étroites
A16: En-tête et pied de page du résumé du plan d'action - à personnaliser | B16: En-tête: Tableau résumé Plan d'action 2014-2015 Pied de page: version du [date] (la date se met à jour automatiquement lors de l'ouverture du fichier)
A17: Le résumé du plan d'action permet de voir, en un coup d'œil, la structure du plan d'action. Il comprend les priorités, les objectifs généraux et les objectifs spécifiques. Pour que le résumé reste à jour, il est conseillé de faire des liaisons avec la feuille du plan d'action. Pour ce faire, suivez la procédure expliquée précédemment.
A19: TRUC EXCEL
A20: Comment faire un retour de chariot à l'intérieur d'une cellule? | B20: Pour effectuer un retour de chariot à l'intérieur d'une même cellule, il suffit de garder la touche "Alt" enfoncée et d'appuyer ensuite sur la touche "Entrée".
A21: Comment gérer les sauts de page et comment s'assurer que tout entre sur une page lors de l'impression ? | B21: Pour voir les sauts de page dans vos différentes feuilles de fichier excel, allez dans l'onglet "Affichage" du menu et cliquez sur "AperçuSautDePg" dans la section "Affichages classeur". Le message suivant apparaîtra "Vous pouvez déplacer les sauts de page en cliquant dessus et en les faisant glisser avec la souris", cliquez sur "OK". Vous verrez alors des lignes bleues, horizontales et verticales, apparaître: ce sont les sauts de page et vous pouvez les déplacer. Ces lignes montrent les limites de pages. Ainsi, si une colonne ou une ligne se retrouve sur la mauvaise page, vous pouvez déplacer les lignes bleues ou agrandir/rétrécir la taille de certaines lignes ou colonnes.
A22: Comment faire pour modifier les en-têtes et pieds de page? | B22: Sous l’onglet Insertion, dans le groupe "Texte", cliquez sur "En-tête/pied". Une fenêtre s'ouvre: cliquez sur "En-tête personnalisée" ou "Pied personnalisée" pour modifier le contenu.
A23: Comment supprimer des lignes? | B23: Pour supprimer une ligne, pointez votre souris sur le chiffre de la ligne à supprimer (la ligne numéro 27, par exemple), cliquez sur le bouton de droite et choissisez l'option "Supprimer".
A24: Pourquoi ma liaison ne fonctionne pas? | B24: Assurez-vous que la cellule soit en format "Standard" (voir dans "Accueil", section "Nombre") et recommencez la procédure de liaison.

Sheet Plan action
A1: Priorité 1:
A2: Objectif général 1 :
A3: Objectifs spécifiques | C3: Moyens (ou actions) | D3: Responsable(s) | E3: Échéancier | F3: Ressources nécessaires | G3: Budget | H3: Résultats attendus | J3: Résultats obtenus | K3: Explication des écarts
A4: 1
A5: 2
A6: 3 | B6: ...ajouter des objectifs si nécessaire…
A7: Objectif général 2 :
A8: Objectifs spécifiques | C8: Moyens (ou actions) | D8: Responsable(s) | E8: Échéancier | F8: Ressources nécessaires | G8: Budget | H8: Résultats attendus | J8: Résultats obtenus | K8: Explication des écarts
A9: 1
A10: 2
A11: 3 | B11: ...ajouter des objectifs si nécessaire…
A12: Priorité 2 :
A13: Objectif général 1 :
A14: Objectifs spécifiques | C14: Moyens (ou actions) | D14: Responsable(s) | E14: Échéancier | F14: Ressources nécessaires | G14: Budget | H14: Résultats attendus | J14: Résultats obtenus | K14: Explication des écarts
A15: 1
A16: 2
A17: 3 | B17: ...ajouter des objectifs si nécessaire…
A19: Priorité 3 :
A20: Objectif général 1 :
A21: Objectifs spécifiques | C21: Moyens (ou actions) | D21: Responsable(s) | E21: Échéancier | F21: Ressources nécessaires | G21: Budget | H21: Résultats attendus | J21: Résultats obtenus | K21: Explication des écarts
A22: 1
A23: 2
A24: 3 | B24: ...ajouter des objectifs si nécessaire…

Sheet Suivi - P1, obj 1
A1: ='Plan action'!A1:K1 -> Priorité 1: | E1: =A1 -> Priorité 1: | I1: =A1 -> Priorité 1:
A2: ='Plan action'!A2:K2 -> Objectif général 1 : | E2: =A2 -> Objectif général 1 : | I2: =A2 -> Objectif général 1 :
A3: Objectif spécifique 1 : | B3: ='Plan action'!B4 -> 0 | E3: Objectif spécifique 2 : | F3: ='Plan action'!B5 -> 0 | I3: Objectif spécifique 3 : | J3: ='Plan action'!B6 -> ...ajouter des objectifs si nécessaire…
A4: Moyens retenus : | B4: ='Plan action'!C4 -> 0 | E4: Moyens retenus : | F4: ='Plan action'!C5 -> 0 | I4: Moyens retenus : | J4: ='Plan action'!C6 -> 0
A5: Responsable: | B5: ='Plan action'!D4 -> 0 | E5: Responsable: | F5: ='Plan action'!D5 -> 0 | I5: Responsable: | J5: ='Plan action'!D6 -> 0
A6: Échéancier: | B6: ='Plan action'!E4 -> 0 | E6: Échéancier global: | F6: ='Plan action'!E5 -> 0 | I6: Échéancier global: | J6: ='Plan action'!E6 -> 0
A7: Ressources nécessaires: | B7: ='Plan action'!F4 -> 0 | E7: Ressources nécessaires: | F7: ='Plan action'!F5 -> 0 | I7: Ressources nécessaires: | J7: ='Plan action'!F6 -> 0
A8: Budget: | B8: ='Plan action'!G4 -> 0 | E8: Budget: | F8: ='Plan action'!G5 -> 0 | I8: Budget: | J8: ='Plan action'!G6 -> 0
A9: Résultats attendus: | B9: ='Plan action'!H4 -> 0 | E9: Résultats attendus: | F9: ='Plan action'!H5 -> 0 | I9: Résultats attendus: | J9: ='Plan action'!H6 -> 0
A11: Tâches | B11: Responsables | C11: Échéancier | D11: Réalisé | E11: Tâches | F11: Responsables | G11: Échéancier | H11: Réalisé | I11: Tâches | J11: Responsables | K11: Échéancier | L11: Réalisé
A12: 1. | D12: o | E12: 1. | H12: o | I12: 1. | L12: o
A13: 2. | D13: o | E13: 2. | H13: o | I13: 2. | L13: o
A14: 3. | D14: o | E14: 3. | H14: o | I14: 3. | L14: o
A15: 4. | D15: o | E15: 4. | H15: o | I15: 4. | L15: o
A17: Date | B17: État des travaux | C17: Suivi (suites à donner) | D17: Échéance | E17: Date | F17: État des travaux | G17: Suivi (suites à donner) | H17: Échéance | I17: Date | J17: État des travaux | K17: Suivi (suites à donner) | L17: Échéance
A20: Notes: | E20: Notes: | I20: Notes:

Sheet Suivi - P1, obj 2
A1: ='Plan action'!A1:K1 -> Priorité 1: | E1: =A1 -> Priorité 1: | I1: =E1 -> Priorité 1:
A2: ='Plan action'!A7:K7 -> Objectif général 2 : | E2: =A2 -> Objectif général 2 : | I2: =E2 -> Objectif général 2 :
A3: Objectif spécifique 1 : | B3: ='Plan action'!B9 -> 0 | E3: Objectif spécifique 2 : | F3: ='Plan action'!B10 -> 0 | I3: Objectif spécifique 3 : | J3: ='Plan action'!B11 -> ...ajouter des objectifs si nécessaire…
A4: Moyens retenus : | B4: ='Plan action'!C9 -> 0 | E4: Moyens retenus : | F4: ='Plan action'!C10 -> 0 | I4: Moyens retenus : | J4: ='Plan action'!C11 -> 0
A5: Responsable: | B5: ='Plan action'!D9 -> 0 | E5: Responsable: | F5: ='Plan action'!D10 -> 0 | I5: Responsable: | J5: ='Plan action'!D11 -> 0
A6: Échéancier global: | B6: ='Plan action'!E9 -> 0 | E6: Échéancier global: | F6: ='Plan action'!E10 -> 0 | I6: Échéancier global: | J6: ='Plan action'!E11 -> 0
A7: Ressources nécessaires: | B7: ='Plan action'!F9 -> 0 | E7: Ressources nécessaires: | F7: ='Plan action'!F10 -> 0 | I7: Ressources nécessaires: | J7: ='Plan action'!F11 -> 0
A8: Budget: | B8: ='Plan action'!G9 -> 0 | E8: Budget: | F8: ='Plan action'!G10 -> 0 | I8: Budget: | J8: ='Plan action'!G11 -> 0
A9: Résultats attendus: | B9: ='Plan action'!H9 -> 0 | E9: Résultats attendus: | F9: ='Plan action'!H10 -> 0 | I9: Résultats attendus: | J9: ='Plan action'!H11 -> 0
A11: Tâches | B11: Responsables | C11: Échéancier | D11: Réalisé | E11: Tâches | F11: Responsables | G11: Échéancier | H11: Réalisé | I11: Tâches | J11: Responsables | K11: Échéancier | L11: Réalisé
A12: 1. | D12: o | E12: 1. | H12: o | I12: 1. | L12: o
A13: 2. | D13: o | E13: 2. | H13: o | I13: 2. | L13: o
A14: 3. | D14: o | E14: 3. | H14: o | I14: 3. | L14: o
A15: 4. | D15: o | E15: 4. | H15: o | I15: 4. | L15: o
A17: Date | B17: État des travaux | C17: Suivi (suites à donner) | D17: Échéance | E17: Date | F17: État des travaux | G17: Suivi (suites à donner) | H17: Échéance | I17: Date | J17: État des travaux | K17: Suivi (suites à donner) | L17: Échéance
A20: Notes: | E20: Notes: | I20: Notes:

Sheet Suivi - P2, obj 1
A1: ='Plan action'!A12:K12 -> Priorité 2 : | E1: =A1 -> Priorité 2 : | I1: =E1 -> Priorité 2 :
A2: ='Plan action'!A13:K13 -> Objectif général 1 : | E2: =A2 -> Objectif général 1 : | I2: =E2 -> Objectif général 1 :
A3: Objectif spécifique 1 : | B3: ='Plan action'!B15 -> 0 | E3: Objectif spécifique 2 : | F3: ='Plan action'!B16 -> 0 | I3: Objectif spécifique 3 : | J3: ='Plan action'!B17 -> ...ajouter des objectifs si nécessaire…
A4: Moyens retenus : | B4: ='Plan action'!C15 -> 0 | E4: Moyens retenus : | F4: ='Plan action'!C16 -> 0 | I4: Moyens retenus : | J4: ='Plan action'!C17 -> 0
A5: Responsable: | B5: ='Plan action'!D15 -> 0 | E5: Responsable: | F5: ='Plan action'!D16 -> 0 | I5: Responsable: | J5: ='Plan action'!D17 -> 0
A6: Échéancier global: | B6: ='Plan action'!E15 -> 0 | E6: Échéancier global: | F6: ='Plan action'!E16 -> 0 | I6: Échéancier global: | J6: ='Plan action'!E17 -> 0
A7: Ressources nécessaires: | B7: ='Plan action'!F15 -> 0 | E7: Ressources nécessaires: | F7: ='Plan action'!F16 -> 0 | I7: Ressources nécessaires: | J7: ='Plan action'!F17 -> 0
A8: Budget: | B8: ='Plan action'!G15 -> 0 | E8: Budget: | F8: ='Plan action'!G16 -> 0 | I8: Budget: | J8: ='Plan action'!G17 -> 0
A9: Résultats attendus: | B9: ='Plan action'!H15 -> 0 | E9: Résultats attendus: | F9: ='Plan action'!H16 -> 0 | I9: Résultats attendus: | J9: ='Plan action'!H17 -> 0
A11: Tâches | B11: Responsables | C11: Échéancier | D11: Réalisé | E11: Tâches | F11: Responsables | G11: Échéancier | H11: Réalisé | I11: Tâches | J11: Responsables | K11: Échéancier | L11: Réalisé
A12: 1. | D12: o | E12: 1. | H12: o | I12: 1. | L12: o
A13: 2. | D13: o | E13: 2. | H13: o | I13: 2. | L13: o
A14: 3. | D14: o | E14: 3. | H14: o | I14: 3. | L14: o
A15: 4. | D15: o | E15: 4. | H15: o | I15: 4. | L15: o
A17: Date | B17: État des travaux | C17: Suivi (suites à donner) | D17: Échéance | E17: Date | F17: État des travaux | G17: Suivi (suites à donner) | H17: Échéance | I17: Date | J17: État des travaux | K17: Suivi (suites à donner) | L17: Échéance
A20: Notes: | E20: Notes: | I20: Notes:

Sheet Suivi - P3, obj 1
A1: ='Plan action'!A19:K19 -> Priorité 3 : | E1: =A1 -> Priorité 3 : | I1: =A1 -> Priorité 3 :
A2: ='Plan action'!A20:K20 -> Objectif général 1 : | E2: =A2 -> Objectif général 1 : | I2: =A2 -> Objectif général 1 :
A3: Objectif spécifique 1 : | B3: ='Plan action'!B22 -> 0 | E3: Objectif spécifique 2 : | F3: ='Plan action'!B23 -> 0 | I3: Objectif spécifique 3 : | J3: ='Plan action'!B24 -> ...ajouter des objectifs si nécessaire…
A4: Moyens retenus : | B4: ='Plan action'!C22 -> 0 | E4: Moyens retenus : | F4: ='Plan action'!C23 -> 0 | I4: Moyens retenus : | J4: ='Plan action'!C24 -> 0
A5: Responsable: | B5: ='Plan action'!D22 -> 0 | E5: Responsable: | F5: ='Plan action'!D23 -> 0 | I5: Responsable: | J5: ='Plan action'!D24 -> 0
A6: Échéancier global: | B6: ='Plan action'!E22 -> 0 | E6: Échéancier global: | F6: ='Plan action'!E23 -> 0 | I6: Échéancier global: | J6: ='Plan action'!E24 -> 0
A7: Ressources nécessaires: | B7: ='Plan action'!F22 -> 0 | E7: Ressources nécessaires: | F7: ='Plan action'!F23 -> 0 | I7: Ressources nécessaires: | J7: ='Plan action'!F24 -> 0
A8: Budget: | B8: ='Plan action'!G22 -> 0 | E8: Budget: | F8: ='Plan action'!G23 -> 0 | I8: Budget: | J8: ='Plan action'!G24 -> 0
A9: Résultats attendus: | B9: ='Plan action'!H22 -> 0 | E9: Résultats attendus: | F9: ='Plan action'!H23 -> 0 | I9: Résultats attendus: | J9: ='Plan action'!H24 -> 0
A11: Tâches | B11: Responsables | C11: Échéancier | D11: Réalisé | E11: Tâches | F11: Responsables | G11: Échéancier | H11: Réalisé | I11: Tâches | J11: Responsables | K11: Échéancier | L11: Réalisé
A12: 1. | D12: o | E12: 1. | H12: o | I12: 1. | L12: o
A13: 2. | D13: o | E13: 2. | H13: o | I13: 2. | L13: o
A14: 3. | D14: o | E14: 3. | H14: o | I14: 3. | L14: o
A15: 4. | D15: o | E15: 4. | H15: o | I15: 4. | L15: o
A17: Date | B17: État des travaux | C17: Suivi (suites à donner) | D17: Échéance | E17: Date | F17: État des travaux | G17: Suivi (suites à donner) | H17: Échéance | I17: Date | J17: État des travaux | K17: Suivi (suites à donner) | L17: Échéance
A20: Notes: | E20: Notes: | I20: Notes:

Sheet Résumé
A1: ='Plan action'!A1:K1 -> Priorité 1:
A2: ='Plan action'!A2:K2 -> Objectif général 1 :
A3: 1 | B3: ='Plan action'!B4 -> 0
A4: 2 | B4: ='Plan action'!B5 -> 0
A5: 3 | B5: ='Plan action'!B6 -> ...ajouter des objectifs si nécessaire…
A6: ='Plan action'!A7:K7 -> Objectif général 2 :
A7: 1 | B7: ='Plan action'!B9 -> 0
A8: 2 | B8: ='Plan action'!B10 -> 0
A9: 3 | B9: ='Plan action'!B11 -> ...ajouter des objectifs si nécessaire…
A10: ='Plan action'!A12:K12 -> Priorité 2 :
A11: ='Plan action'!A13:K13 -> Objectif général 1 :
A12: 1 | B12: ='Plan action'!B15 -> 0
A13: 2 | B13: ='Plan action'!B16 -> 0
A14: 3 | B14: ='Plan action'!B17 -> ...ajouter des objectifs si nécessaire…
A15: ='Plan action'!A19:K19 -> Priorité 3 :
A16: ='Plan action'!A20:K20 -> Objectif général 1 :
A17: 1 | B17: ='Plan action'!B22 -> 0
A18: 2 | B18: ='Plan action'!B23 -> 0
A19: 3 | B19: ='Plan action'!B24 -> ...ajouter des objectifs si nécessaire…
